BEGIN:VCALENDAR
VERSION:2.0
PRODID:KKTIX
CALSCALE:GREGORIAN
METHOD:PUBLISH
BEGIN:VTIMEZONE
TZID:Asia/Taipei
END:VTIMEZONE
BEGIN:VEVENT
DTSTAMP:20260423T155537Z
UID:b6a277cc-6bf5-44ba-bc46-cd5e30e2bd07
DTSTART:20250715T060000Z
DTEND:20250715T090000Z
CLASS:PUBLIC
DESCRIPTION:https://tcoc113.kktix.cc/events/5d03050a
LOCATION: (台北市松江路168號13樓) 台灣省商業會  會議室
SUMMARY: 7/15企業不可不知：營業秘密保護及案例分享
END:VEVENT
END:VCALENDAR
